BEGIN:VCALENDAR
VERSION:2.0
PRODID:-//Centrál Színház - ECPv6.15.18//NONSGML v1.0//EN
CALSCALE:GREGORIAN
METHOD:PUBLISH
X-WR-CALNAME:Centrál Színház
X-ORIGINAL-URL:https://centralszinhaz.hu
X-WR-CALDESC:Események Centrál Színház
REFRESH-INTERVAL;VALUE=DURATION:PT1H
X-Robots-Tag:noindex
X-PUBLISHED-TTL:PT1H
BEGIN:VTIMEZONE
TZID:UTC
BEGIN:STANDARD
TZOFFSETFROM:+0000
TZOFFSETTO:+0000
TZNAME:UTC
DTSTART:20250101T000000
END:STANDARD
END:VTIMEZONE
BEGIN:VEVENT
DTSTART;TZID=UTC:20260526T190000
DTEND;TZID=UTC:20260526T210000
DTSTAMP:20260420T231057
CREATED:20260323T095018Z
LAST-MODIFIED:20260326T100113Z
UID:13545-1779822000-1779829200@centralszinhaz.hu
SUMMARY:A Macskalápon
DESCRIPTION: 
URL:https://centralszinhaz.hu/musor/a-macskalapon-9/
CATEGORIES:A macskalápon
ATTACH;FMTTYPE=image/jpeg:https://centralszinhaz.hu/wp-content/uploads/2025/11/macskalapon_listakep2_k.jpg
END:VEVENT
BEGIN:VEVENT
DTSTART;TZID=UTC:20260527T190000
DTEND;TZID=UTC:20260527T213000
DTSTAMP:20260420T231057
CREATED:20260323T095012Z
LAST-MODIFIED:20260326T094250Z
UID:13529-1779908400-1779917400@centralszinhaz.hu
SUMMARY:Játék a kastélyban
DESCRIPTION: 
URL:https://centralszinhaz.hu/musor/jatek-a-kastelyban-22/
CATEGORIES:Játék a kastélyban
ATTACH;FMTTYPE=image/jpeg:https://centralszinhaz.hu/wp-content/uploads/2025/09/listakep_jatek_a_kastelyban_k_1722238202.jpg
END:VEVENT
BEGIN:VEVENT
DTSTART;TZID=UTC:20260528T190000
DTEND;TZID=UTC:20260528T202000
DTSTAMP:20260420T231057
CREATED:20260323T095031Z
LAST-MODIFIED:20260326T092915Z
UID:13515-1779994800-1779999600@centralszinhaz.hu
SUMMARY:Tiszta őrület
DESCRIPTION: 
URL:https://centralszinhaz.hu/musor/tiszta-orulet-25/
CATEGORIES:Tiszta őrület
ATTACH;FMTTYPE=image/jpeg:https://centralszinhaz.hu/wp-content/uploads/2025/10/tiszta_orulet_listakep2_k.jpg
END:VEVENT
BEGIN:VEVENT
DTSTART;TZID=UTC:20260529T190000
DTEND;TZID=UTC:20260529T212000
DTSTAMP:20260420T231057
CREATED:20260323T095040Z
LAST-MODIFIED:20260326T095047Z
UID:13533-1780081200-1780089600@centralszinhaz.hu
SUMMARY:A testőr
DESCRIPTION: 
URL:https://centralszinhaz.hu/musor/a-testor-20/
CATEGORIES:A Testőr
ATTACH;FMTTYPE=image/jpeg:https://centralszinhaz.hu/wp-content/uploads/2025/09/testor_listakep_kati_1758893421.jpg
END:VEVENT
BEGIN:VEVENT
DTSTART;TZID=UTC:20260530T190000
DTEND;TZID=UTC:20260530T203000
DTSTAMP:20260420T231057
CREATED:20260323T095013Z
LAST-MODIFIED:20260326T100502Z
UID:13573-1780167600-1780173000@centralszinhaz.hu
SUMMARY:New York-i komédia
DESCRIPTION:  \n\n\n\n\n\n\n\n\n\n\n\n\n\n 
URL:https://centralszinhaz.hu/musor/new-york-i-komedia-8/
CATEGORIES:New York-i komédia
ATTACH;FMTTYPE=image/jpeg:https://centralszinhaz.hu/wp-content/uploads/2025/09/cpw.jpg
END:VEVENT
BEGIN:VEVENT
DTSTART;TZID=UTC:20260531T190000
DTEND;TZID=UTC:20260531T212500
DTSTAMP:20260420T231057
CREATED:20260323T095039Z
LAST-MODIFIED:20260326T095819Z
UID:13541-1780254000-1780262700@centralszinhaz.hu
SUMMARY:A kripli
DESCRIPTION: 
URL:https://centralszinhaz.hu/musor/a-kripli-16/
CATEGORIES:A kripli
ATTACH;FMTTYPE=image/jpeg:https://centralszinhaz.hu/wp-content/uploads/2025/09/a_kripli_listakep.jpg
END:VEVENT
BEGIN:VEVENT
DTSTART;TZID=UTC:20260531T193000
DTEND;TZID=UTC:20260531T210000
DTSTAMP:20260420T231057
CREATED:20260323T095048Z
LAST-MODIFIED:20260326T101116Z
UID:13581-1780255800-1780261200@centralszinhaz.hu
SUMMARY:Egy bizonyítás körvonalai
DESCRIPTION: 
URL:https://centralszinhaz.hu/musor/egy-bizonyitas-korvonalai-14/
CATEGORIES:Egy bizonyítás körvonalai
ATTACH;FMTTYPE=image/jpeg:https://centralszinhaz.hu/wp-content/uploads/2025/09/listakep_proof2_1734686654.jpg
END:VEVENT
BEGIN:VEVENT
DTSTART;TZID=UTC:20260610T193000
DTEND;TZID=UTC:20260610T210000
DTSTAMP:20260420T231057
CREATED:20260113T142813Z
LAST-MODIFIED:20260113T142813Z
UID:11638-1781119800-1781125200@centralszinhaz.hu
SUMMARY:Dummy
DESCRIPTION: 
URL:https://centralszinhaz.hu/musor/dummy-3/
CATEGORIES:Dummy
END:VEVENT
BEGIN:VEVENT
DTSTART;TZID=UTC:20260710T193000
DTEND;TZID=UTC:20260710T210000
DTSTAMP:20260420T231057
CREATED:20260113T142830Z
LAST-MODIFIED:20260113T142830Z
UID:11640-1783711800-1783717200@centralszinhaz.hu
SUMMARY:Dummy
DESCRIPTION: 
URL:https://centralszinhaz.hu/musor/dummy-4/
CATEGORIES:Dummy
END:VEVENT
BEGIN:VEVENT
DTSTART;TZID=UTC:20260812T193000
DTEND;TZID=UTC:20260812T210000
DTSTAMP:20260420T231057
CREATED:20260113T142848Z
LAST-MODIFIED:20260113T142852Z
UID:11642-1786563000-1786568400@centralszinhaz.hu
SUMMARY:Dummy
DESCRIPTION: 
URL:https://centralszinhaz.hu/musor/dummy-5/
CATEGORIES:Dummy
END:VEVENT
BEGIN:VEVENT
DTSTART;TZID=UTC:20260910T193000
DTEND;TZID=UTC:20260910T210000
DTSTAMP:20260420T231057
CREATED:20260113T142907Z
LAST-MODIFIED:20260113T142907Z
UID:11644-1789068600-1789074000@centralszinhaz.hu
SUMMARY:Dummy
DESCRIPTION: 
URL:https://centralszinhaz.hu/musor/dummy-6/
CATEGORIES:Dummy
END:VEVENT
BEGIN:VEVENT
DTSTART;TZID=UTC:20261109T193000
DTEND;TZID=UTC:20261109T210000
DTSTAMP:20260420T231057
CREATED:20260113T142923Z
LAST-MODIFIED:20260113T142937Z
UID:11646-1794252600-1794258000@centralszinhaz.hu
SUMMARY:Dummy
DESCRIPTION: 
URL:https://centralszinhaz.hu/musor/dummy-7/
CATEGORIES:Dummy
END:VEVENT
BEGIN:VEVENT
DTSTART;TZID=UTC:20261210T193000
DTEND;TZID=UTC:20261210T210000
DTSTAMP:20260420T231057
CREATED:20260113T142955Z
LAST-MODIFIED:20260113T142955Z
UID:11648-1796931000-1796936400@centralszinhaz.hu
SUMMARY:Dummy
DESCRIPTION: 
URL:https://centralszinhaz.hu/musor/dummy-8/
CATEGORIES:Dummy
END:VEVENT
END:VCALENDAR