BEGIN:VCALENDAR
VERSION:2.0
PRODID:-//Centrál Színház - ECPv6.15.18//NONSGML v1.0//EN
CALSCALE:GREGORIAN
METHOD:PUBLISH
X-ORIGINAL-URL:https://centralszinhaz.hu
X-WR-CALDESC:Események Centrál Színház
REFRESH-INTERVAL;VALUE=DURATION:PT1H
X-Robots-Tag:noindex
X-PUBLISHED-TTL:PT1H
BEGIN:VTIMEZONE
TZID:UTC
BEGIN:STANDARD
TZOFFSETFROM:+0000
TZOFFSETTO:+0000
TZNAME:UTC
DTSTART:20250101T000000
END:STANDARD
END:VTIMEZONE
BEGIN:VEVENT
DTSTART;TZID=UTC:20260428T190000
DTEND;TZID=UTC:20260428T202000
DTSTAMP:20260420T200843
CREATED:20260223T095015Z
LAST-MODIFIED:20260315T191635Z
UID:12869-1777402800-1777407600@centralszinhaz.hu
SUMMARY:Tiszta őrület
DESCRIPTION: 
URL:https://centralszinhaz.hu/musor/tiszta-orulet-23/
CATEGORIES:Tiszta őrület
ATTACH;FMTTYPE=image/jpeg:https://centralszinhaz.hu/wp-content/uploads/2025/10/tiszta_orulet_listakep2_k.jpg
END:VEVENT
BEGIN:VEVENT
DTSTART;TZID=UTC:20260429T190000
DTEND;TZID=UTC:20260429T203000
DTSTAMP:20260420T200843
CREATED:20260223T095010Z
LAST-MODIFIED:20260226T095851Z
UID:12915-1777489200-1777494600@centralszinhaz.hu
SUMMARY:New York-i komédia
DESCRIPTION:  \n\n\n\n\n\n\n\n\n\n\n\n\n\n 
URL:https://centralszinhaz.hu/musor/new-york-i-komedia-7/
CATEGORIES:New York-i komédia
ATTACH;FMTTYPE=image/jpeg:https://centralszinhaz.hu/wp-content/uploads/2025/09/cpw.jpg
END:VEVENT
BEGIN:VEVENT
DTSTART;TZID=UTC:20260430T190000
DTEND;TZID=UTC:20260430T210000
DTSTAMP:20260420T200843
CREATED:20260223T095045Z
LAST-MODIFIED:20260226T095310Z
UID:12911-1777575600-1777582800@centralszinhaz.hu
SUMMARY:Ma este megbukunk
DESCRIPTION: 
URL:https://centralszinhaz.hu/musor/ma-este-megbukunk-11/
CATEGORIES:Ma este megbukunk
ATTACH;FMTTYPE=image/jpeg:https://centralszinhaz.hu/wp-content/uploads/2025/09/ma_este-megbukunk_jasko_balint_1635323882.jpg
END:VEVENT
BEGIN:VEVENT
DTSTART;TZID=UTC:20260430T193000
DTEND;TZID=UTC:20260430T210000
DTSTAMP:20260420T200843
CREATED:20260223T095008Z
LAST-MODIFIED:20260226T100356Z
UID:12921-1777577400-1777582800@centralszinhaz.hu
SUMMARY:Oleanna
DESCRIPTION: 
URL:https://centralszinhaz.hu/musor/oleanna-15/
CATEGORIES:Oleanna
ATTACH;FMTTYPE=image/jpeg:https://centralszinhaz.hu/wp-content/uploads/2025/09/listakep_oleanna2_1728896185.jpg
END:VEVENT
BEGIN:VEVENT
DTSTART;TZID=UTC:20260503T190000
DTEND;TZID=UTC:20260503T215500
DTSTAMP:20260420T200843
CREATED:20260323T095046Z
LAST-MODIFIED:20260326T091736Z
UID:13505-1777834800-1777845300@centralszinhaz.hu
SUMMARY:My Fair Lady
DESCRIPTION: 
URL:https://centralszinhaz.hu/musor/my-fair-lady-16/
CATEGORIES:My fair lady
ATTACH;FMTTYPE=image/jpeg:https://centralszinhaz.hu/wp-content/uploads/2025/09/mfl_balla_eszter_listakep_1730802295.jpg
END:VEVENT
BEGIN:VEVENT
DTSTART;TZID=UTC:20260504T190000
DTEND;TZID=UTC:20260504T212500
DTSTAMP:20260420T200843
CREATED:20260323T095003Z
LAST-MODIFIED:20260326T092139Z
UID:13509-1777921200-1777929900@centralszinhaz.hu
SUMMARY:Pletykafészek
DESCRIPTION: 
URL:https://centralszinhaz.hu/musor/pletykafeszek-15/
CATEGORIES:Pletykafészek
ATTACH;FMTTYPE=image/jpeg:https://centralszinhaz.hu/wp-content/uploads/2025/09/pletykafeszek.jpg
END:VEVENT
BEGIN:VEVENT
DTSTART;TZID=UTC:20260506T193000
DTEND;TZID=UTC:20260506T210000
DTSTAMP:20260420T200843
CREATED:20260323T095019Z
LAST-MODIFIED:20260326T101221Z
UID:13583-1778095800-1778101200@centralszinhaz.hu
SUMMARY:Az ügynök halála
DESCRIPTION: 
URL:https://centralszinhaz.hu/musor/az-ugynok-halala-14/
CATEGORIES:Az ügynök halála
ATTACH;FMTTYPE=image/jpeg:https://centralszinhaz.hu/wp-content/uploads/2025/05/ugynok_halala_listakep.jpg
END:VEVENT
BEGIN:VEVENT
DTSTART;TZID=UTC:20260508T190000
DTEND;TZID=UTC:20260508T204000
DTSTAMP:20260420T200843
CREATED:20260323T095058Z
LAST-MODIFIED:20260404T101116Z
UID:13523-1778266800-1778272800@centralszinhaz.hu
SUMMARY:2:22
DESCRIPTION: 
URL:https://centralszinhaz.hu/musor/222-14/
CATEGORIES:222
ATTACH;FMTTYPE=image/jpeg:https://centralszinhaz.hu/wp-content/uploads/2025/03/222_szasz_juli_listakep.jpg
END:VEVENT
BEGIN:VEVENT
DTSTART;TZID=UTC:20260509T190000
DTEND;TZID=UTC:20260509T213000
DTSTAMP:20260420T200843
CREATED:20260323T095052Z
LAST-MODIFIED:20260326T094201Z
UID:13527-1778353200-1778362200@centralszinhaz.hu
SUMMARY:Játék a kastélyban
DESCRIPTION: 
URL:https://centralszinhaz.hu/musor/jatek-a-kastelyban-21/
CATEGORIES:Játék a kastélyban
ATTACH;FMTTYPE=image/jpeg:https://centralszinhaz.hu/wp-content/uploads/2025/09/listakep_jatek_a_kastelyban_k_1722238202.jpg
END:VEVENT
BEGIN:VEVENT
DTSTART;TZID=UTC:20260509T193000
DTEND;TZID=UTC:20260509T210000
DTSTAMP:20260420T200843
CREATED:20260323T095045Z
LAST-MODIFIED:20260326T101805Z
UID:13590-1778355000-1778360400@centralszinhaz.hu
SUMMARY:Mellékhatás
DESCRIPTION: 
URL:https://centralszinhaz.hu/musor/mellekhatas-13/
CATEGORIES:Mellékhatás
ATTACH;FMTTYPE=image/jpeg:https://centralszinhaz.hu/wp-content/uploads/2025/09/listakep_tibi_dorka_1732021966.jpg
END:VEVENT
BEGIN:VEVENT
DTSTART;TZID=UTC:20260510T193000
DTEND;TZID=UTC:20260510T210000
DTSTAMP:20260420T200843
CREATED:20260113T142755Z
LAST-MODIFIED:20260113T142755Z
UID:11636-1778441400-1778446800@centralszinhaz.hu
SUMMARY:Dummy
DESCRIPTION: 
URL:https://centralszinhaz.hu/musor/dummy-2/
CATEGORIES:Dummy
END:VEVENT
BEGIN:VEVENT
DTSTART;TZID=UTC:20260510T193000
DTEND;TZID=UTC:20260510T221500
DTSTAMP:20260420T200843
CREATED:20260323T095054Z
LAST-MODIFIED:20260326T101909Z
UID:13592-1778441400-1778451300@centralszinhaz.hu
SUMMARY:magyartenger
DESCRIPTION: 
URL:https://centralszinhaz.hu/musor/magyartenger-12/
CATEGORIES:magyartenger
ATTACH;FMTTYPE=image/jpeg:https://centralszinhaz.hu/wp-content/uploads/2025/09/listakep_magyartenger4_1668696437.jpg
END:VEVENT
BEGIN:VEVENT
DTSTART;TZID=UTC:20260512T190000
DTEND;TZID=UTC:20260512T210000
DTSTAMP:20260420T200843
CREATED:20260323T095045Z
LAST-MODIFIED:20260326T095459Z
UID:13535-1778612400-1778619600@centralszinhaz.hu
SUMMARY:Ma este megbukunk
DESCRIPTION: 
URL:https://centralszinhaz.hu/musor/ma-este-megbukunk-12/
CATEGORIES:Ma este megbukunk
ATTACH;FMTTYPE=image/jpeg:https://centralszinhaz.hu/wp-content/uploads/2025/09/ma_este-megbukunk_jasko_balint_1635323882.jpg
END:VEVENT
BEGIN:VEVENT
DTSTART;TZID=UTC:20260513T190000
DTEND;TZID=UTC:20260513T212500
DTSTAMP:20260420T200843
CREATED:20260323T095044Z
LAST-MODIFIED:20260326T095703Z
UID:13539-1778698800-1778707500@centralszinhaz.hu
SUMMARY:A kripli
DESCRIPTION: 
URL:https://centralszinhaz.hu/musor/a-kripli-15/
CATEGORIES:A kripli
ATTACH;FMTTYPE=image/jpeg:https://centralszinhaz.hu/wp-content/uploads/2025/09/a_kripli_listakep.jpg
END:VEVENT
BEGIN:VEVENT
DTSTART;TZID=UTC:20260514T190000
DTEND;TZID=UTC:20260514T215500
DTSTAMP:20260420T200843
CREATED:20260323T095041Z
LAST-MODIFIED:20260326T091837Z
UID:13507-1778785200-1778795700@centralszinhaz.hu
SUMMARY:My Fair Lady
DESCRIPTION: 
URL:https://centralszinhaz.hu/musor/my-fair-lady-17/
CATEGORIES:My fair lady
ATTACH;FMTTYPE=image/jpeg:https://centralszinhaz.hu/wp-content/uploads/2025/09/mfl_balla_eszter_listakep_1730802295.jpg
END:VEVENT
BEGIN:VEVENT
DTSTART;TZID=UTC:20260515T190000
DTEND;TZID=UTC:20260515T210000
DTSTAMP:20260420T200843
CREATED:20260323T095012Z
LAST-MODIFIED:20260326T100013Z
UID:13543-1778871600-1778878800@centralszinhaz.hu
SUMMARY:A Macskalápon
DESCRIPTION: 
URL:https://centralszinhaz.hu/musor/a-macskalapon-8/
CATEGORIES:A macskalápon
ATTACH;FMTTYPE=image/jpeg:https://centralszinhaz.hu/wp-content/uploads/2025/11/macskalapon_listakep2_k.jpg
END:VEVENT
BEGIN:VEVENT
DTSTART;TZID=UTC:20260516T190000
DTEND;TZID=UTC:20260516T212000
DTSTAMP:20260420T200843
CREATED:20260323T095019Z
LAST-MODIFIED:20260326T091509Z
UID:13503-1778958000-1778966400@centralszinhaz.hu
SUMMARY:Fekete Péter
DESCRIPTION: 
URL:https://centralszinhaz.hu/musor/fekete-peter-13/
CATEGORIES:Fekete Péter
ATTACH;FMTTYPE=image/jpeg:https://centralszinhaz.hu/wp-content/uploads/2025/09/fekete_peter_karakter_listakep1_1699975055.jpg
END:VEVENT
BEGIN:VEVENT
DTSTART;TZID=UTC:20260517T190000
DTEND;TZID=UTC:20260517T203000
DTSTAMP:20260420T200843
CREATED:20260323T095036Z
LAST-MODIFIED:20260326T100233Z
UID:13547-1779044400-1779049800@centralszinhaz.hu
SUMMARY:Házassági leckék középhaladóknak
DESCRIPTION: 
URL:https://centralszinhaz.hu/musor/hazassagi-leckek-kozephaladoknak-15/
CATEGORIES:Házassági leckék középhaladóknak
ATTACH;FMTTYPE=image/jpeg:https://centralszinhaz.hu/wp-content/uploads/2025/09/hlk.jpg
END:VEVENT
BEGIN:VEVENT
DTSTART;TZID=UTC:20260520T190000
DTEND;TZID=UTC:20260520T204500
DTSTAMP:20260420T200843
CREATED:20260323T095051Z
LAST-MODIFIED:20260326T100406Z
UID:13571-1779303600-1779309900@centralszinhaz.hu
SUMMARY:Network
DESCRIPTION: 
URL:https://centralszinhaz.hu/musor/network-10/
CATEGORIES:Network
ATTACH;FMTTYPE=image/jpeg:https://centralszinhaz.hu/wp-content/uploads/2025/09/jegyx1_network_listakep_1639056636.jpg
END:VEVENT
BEGIN:VEVENT
DTSTART;TZID=UTC:20260521T190000
DTEND;TZID=UTC:20260521T203000
DTSTAMP:20260420T200843
CREATED:20260323T095045Z
LAST-MODIFIED:20260326T100310Z
UID:13558-1779390000-1779395400@centralszinhaz.hu
SUMMARY:Házassági leckék középhaladóknak
DESCRIPTION: 
URL:https://centralszinhaz.hu/musor/hazassagi-leckek-kozephaladoknak-16/
CATEGORIES:Házassági leckék középhaladóknak
ATTACH;FMTTYPE=image/jpeg:https://centralszinhaz.hu/wp-content/uploads/2025/09/hlk.jpg
END:VEVENT
BEGIN:VEVENT
DTSTART;TZID=UTC:20260522T190000
DTEND;TZID=UTC:20260522T210000
DTSTAMP:20260420T200843
CREATED:20260323T095041Z
LAST-MODIFIED:20260326T095602Z
UID:13537-1779476400-1779483600@centralszinhaz.hu
SUMMARY:Ma este megbukunk
DESCRIPTION: 
URL:https://centralszinhaz.hu/musor/ma-este-megbukunk-13/
CATEGORIES:Ma este megbukunk
ATTACH;FMTTYPE=image/jpeg:https://centralszinhaz.hu/wp-content/uploads/2025/09/ma_este-megbukunk_jasko_balint_1635323882.jpg
END:VEVENT
BEGIN:VEVENT
DTSTART;TZID=UTC:20260522T193000
DTEND;TZID=UTC:20260522T210000
DTSTAMP:20260420T200843
CREATED:20260323T095020Z
LAST-MODIFIED:20260326T102004Z
UID:13594-1779478200-1779483600@centralszinhaz.hu
SUMMARY:Jó zsaru\, rossz zsaru
DESCRIPTION: 
URL:https://centralszinhaz.hu/musor/jo-zsaru-rossz-zsaru-8/
CATEGORIES:Jó zsaru, rossz zsaru
ATTACH;FMTTYPE=image/jpeg:https://centralszinhaz.hu/wp-content/uploads/2025/09/jo_zsaru.jpg
END:VEVENT
BEGIN:VEVENT
DTSTART;TZID=UTC:20260523T150000
DTEND;TZID=UTC:20260523T172500
DTSTAMP:20260420T200843
CREATED:20260323T095016Z
LAST-MODIFIED:20260326T092207Z
UID:13511-1779548400-1779557100@centralszinhaz.hu
SUMMARY:Pletykafészek
DESCRIPTION: 
URL:https://centralszinhaz.hu/musor/pletykafeszek-16/
CATEGORIES:Pletykafészek
ATTACH;FMTTYPE=image/jpeg:https://centralszinhaz.hu/wp-content/uploads/2025/09/pletykafeszek.jpg
END:VEVENT
BEGIN:VEVENT
DTSTART;TZID=UTC:20260523T193000
DTEND;TZID=UTC:20260523T210000
DTSTAMP:20260420T200843
CREATED:20260323T095042Z
LAST-MODIFIED:20260326T101545Z
UID:13588-1779564600-1779570000@centralszinhaz.hu
SUMMARY:Oleanna
DESCRIPTION: 
URL:https://centralszinhaz.hu/musor/oleanna-17/
CATEGORIES:Oleanna
ATTACH;FMTTYPE=image/jpeg:https://centralszinhaz.hu/wp-content/uploads/2025/09/listakep_oleanna2_1728896185.jpg
END:VEVENT
BEGIN:VEVENT
DTSTART;TZID=UTC:20260524T190000
DTEND;TZID=UTC:20260524T204000
DTSTAMP:20260420T200843
CREATED:20260323T095048Z
LAST-MODIFIED:20260404T101102Z
UID:13525-1779649200-1779655200@centralszinhaz.hu
SUMMARY:2:22
DESCRIPTION: 
URL:https://centralszinhaz.hu/musor/222-15/
CATEGORIES:222
ATTACH;FMTTYPE=image/jpeg:https://centralszinhaz.hu/wp-content/uploads/2025/03/222_szasz_juli_listakep.jpg
END:VEVENT
BEGIN:VEVENT
DTSTART;TZID=UTC:20260526T190000
DTEND;TZID=UTC:20260526T210000
DTSTAMP:20260420T200843
CREATED:20260323T095018Z
LAST-MODIFIED:20260326T100113Z
UID:13545-1779822000-1779829200@centralszinhaz.hu
SUMMARY:A Macskalápon
DESCRIPTION: 
URL:https://centralszinhaz.hu/musor/a-macskalapon-9/
CATEGORIES:A macskalápon
ATTACH;FMTTYPE=image/jpeg:https://centralszinhaz.hu/wp-content/uploads/2025/11/macskalapon_listakep2_k.jpg
END:VEVENT
BEGIN:VEVENT
DTSTART;TZID=UTC:20260527T190000
DTEND;TZID=UTC:20260527T213000
DTSTAMP:20260420T200843
CREATED:20260323T095012Z
LAST-MODIFIED:20260326T094250Z
UID:13529-1779908400-1779917400@centralszinhaz.hu
SUMMARY:Játék a kastélyban
DESCRIPTION: 
URL:https://centralszinhaz.hu/musor/jatek-a-kastelyban-22/
CATEGORIES:Játék a kastélyban
ATTACH;FMTTYPE=image/jpeg:https://centralszinhaz.hu/wp-content/uploads/2025/09/listakep_jatek_a_kastelyban_k_1722238202.jpg
END:VEVENT
BEGIN:VEVENT
DTSTART;TZID=UTC:20260528T190000
DTEND;TZID=UTC:20260528T202000
DTSTAMP:20260420T200843
CREATED:20260323T095031Z
LAST-MODIFIED:20260326T092915Z
UID:13515-1779994800-1779999600@centralszinhaz.hu
SUMMARY:Tiszta őrület
DESCRIPTION: 
URL:https://centralszinhaz.hu/musor/tiszta-orulet-25/
CATEGORIES:Tiszta őrület
ATTACH;FMTTYPE=image/jpeg:https://centralszinhaz.hu/wp-content/uploads/2025/10/tiszta_orulet_listakep2_k.jpg
END:VEVENT
BEGIN:VEVENT
DTSTART;TZID=UTC:20260529T190000
DTEND;TZID=UTC:20260529T212000
DTSTAMP:20260420T200843
CREATED:20260323T095040Z
LAST-MODIFIED:20260326T095047Z
UID:13533-1780081200-1780089600@centralszinhaz.hu
SUMMARY:A testőr
DESCRIPTION: 
URL:https://centralszinhaz.hu/musor/a-testor-20/
CATEGORIES:A Testőr
ATTACH;FMTTYPE=image/jpeg:https://centralszinhaz.hu/wp-content/uploads/2025/09/testor_listakep_kati_1758893421.jpg
END:VEVENT
BEGIN:VEVENT
DTSTART;TZID=UTC:20260530T190000
DTEND;TZID=UTC:20260530T203000
DTSTAMP:20260420T200843
CREATED:20260323T095013Z
LAST-MODIFIED:20260326T100502Z
UID:13573-1780167600-1780173000@centralszinhaz.hu
SUMMARY:New York-i komédia
DESCRIPTION:  \n\n\n\n\n\n\n\n\n\n\n\n\n\n 
URL:https://centralszinhaz.hu/musor/new-york-i-komedia-8/
CATEGORIES:New York-i komédia
ATTACH;FMTTYPE=image/jpeg:https://centralszinhaz.hu/wp-content/uploads/2025/09/cpw.jpg
END:VEVENT
END:VCALENDAR