BEGIN:VCALENDAR
VERSION:2.0
PRODID:-//Centrál Színház - ECPv6.15.18//NONSGML v1.0//EN
CALSCALE:GREGORIAN
METHOD:PUBLISH
X-ORIGINAL-URL:https://centralszinhaz.hu
X-WR-CALDESC:Események Centrál Színház
REFRESH-INTERVAL;VALUE=DURATION:PT1H
X-Robots-Tag:noindex
X-PUBLISHED-TTL:PT1H
BEGIN:VTIMEZONE
TZID:UTC
BEGIN:STANDARD
TZOFFSETFROM:+0000
TZOFFSETTO:+0000
TZNAME:UTC
DTSTART:20250101T000000
END:STANDARD
END:VTIMEZONE
BEGIN:VEVENT
DTSTART;TZID=UTC:20261109T193000
DTEND;TZID=UTC:20261109T210000
DTSTAMP:20260422T133636
CREATED:20260113T142923Z
LAST-MODIFIED:20260113T142937Z
UID:11646-1794252600-1794258000@centralszinhaz.hu
SUMMARY:Dummy
DESCRIPTION: 
URL:https://centralszinhaz.hu/musor/dummy-7/
CATEGORIES:Dummy
END:VEVENT
END:VCALENDAR